BEGIN:VCALENDAR
VERSION:2.0
METHOD:PUBLISH
PRODID::-//Obvius//NONSGML ICal//DA
BEGIN:VEVENT
UID:3351968@development.ku.dk
DESCRIPTION:Seminar with international experts\, commenting on most recent
  developments regarding China.\n\nhttps://development.ku.dk/calendar/2019/
 special-seminar-china-sustainable-development-and-economic-policy-making/
SUMMARY:Special seminar: China\, Sustainable Development\, and Economic Po
 licy-making
CATEGORIES:seminar
LOCATION:Nanna Berg Auditorium\, 1st floor\, room 9A-1-01\, Njalsgade 76\,
  DK-2300 Copenhagen S
ORGANIZER:iCourts\, the Danish National Research Foundation's Centre of Ex
 cellence for International Courts\, The Faculty of Law\, with the support 
 of Renmin University of China\, Carlsberg Foundation\, Dreyers Fond and Th
 inkChina.dk
DTSTART:20190412T080000Z
DTSTAMP:20190412T080000Z
DTEND:20190412T100000Z
END:VEVENT
END:VCALENDAR
